BEGIN:VCALENDAR
VERSION:2.0
PRODID:-//RCCG UPPER ROOM Melbourne - ECPv6.15.10//NONSGML v1.0//EN
CALSCALE:GREGORIAN
METHOD:PUBLISH
X-WR-CALNAME:RCCG UPPER ROOM Melbourne
X-ORIGINAL-URL:https://rccgupperroom.com
X-WR-CALDESC:Events for RCCG UPPER ROOM Melbourne
REFRESH-INTERVAL;VALUE=DURATION:PT1H
X-Robots-Tag:noindex
X-PUBLISHED-TTL:PT1H
BEGIN:VTIMEZONE
TZID:UTC
BEGIN:STANDARD
TZOFFSETFROM:+0000
TZOFFSETTO:+0000
TZNAME:UTC
DTSTART:20260101T000000
END:STANDARD
END:VTIMEZONE
BEGIN:VEVENT
DTSTART;TZID=UTC:20271105T090000
DTEND;TZID=UTC:20271105T120000
DTSTAMP:20260424T122702
CREATED:20250105T210512Z
LAST-MODIFIED:20250806T155435Z
UID:39572-1825405200-1825416000@rccgupperroom.com
SUMMARY:Breakthrough Prayer & Fasting
DESCRIPTION:For science\, music\, sport\, etc\, Europe uses the same vocabulary. The languages only differ in their grammar\, their pronunciation and their most common words. Everyone realizes why a new common language would be desirable: one could refuse to pay expensive translators. To achieve this\, it would be necessary to have uniform grammar\, pronunciation and more common words. If several languages coalesce\, the grammar of the resulting language is more simple and regular than that of the individual languages. The new common language will be more simple and regular than the existing European languages. It will be as simple as Occidental; in fact\, it will be Occidental. To an English person\, it will seem like simplified English\, as a skeptical Cambridge friend of mine told me what Occidental is. The European languages are members of the same family.
URL:https://rccgupperroom.com/event/breakthrough-prayer-fasting/
LOCATION:Melbourne
CATEGORIES:Monthly Events
ATTACH;FMTTYPE=image/jpeg:https://rccgupperroom.com/wp-content/uploads/2025/01/rccg-upper-room-assembly-Breakthrough-Fasting-Prayer.jpeg
ORGANIZER;CN="Online":MAILTO:info@rccgupperroom.com
END:VEVENT
BEGIN:VEVENT
DTSTART;TZID=UTC:20271110T090000
DTEND;TZID=UTC:20271110T120000
DTSTAMP:20260424T122702
CREATED:20250107T210523Z
LAST-MODIFIED:20250806T161531Z
UID:39574-1825837200-1825848000@rccgupperroom.com
SUMMARY:Hours Of liberty & Miracle Service
DESCRIPTION:For science\, music\, sport\, etc\, Europe uses the same vocabulary. The languages only differ in their grammar\, their pronunciation and their most common words. Everyone realizes why a new common language would be desirable: one could refuse to pay expensive translators. To achieve this\, it would be necessary to have uniform grammar\, pronunciation and more common words. If several languages coalesce\, the grammar of the resulting language is more simple and regular than that of the individual languages. The new common language will be more simple and regular than the existing European languages. It will be as simple as Occidental; in fact\, it will be Occidental. To an English person\, it will seem like simplified English\, as a skeptical Cambridge friend of mine told me what Occidental is. The European languages are members of the same family.
URL:https://rccgupperroom.com/event/hours-of-liberty-miracle-service/
LOCATION:RCCG Upper Room Church\, 5B Motto Court Hoppers Crossing Melbourne\, Australia 3029\, Hooper Crossing\, Melbourne\, 3029\, Australia
CATEGORIES:Monthly Events
ATTACH;FMTTYPE=image/jpeg:https://rccgupperroom.com/wp-content/uploads/2025/01/hours-of-liberty.jpg
END:VEVENT
END:VCALENDAR